BEGIN:VCALENDAR
VERSION:2.0
PRODID:-//Gibraltar Wave FC - ECPv6.15.20//NONSGML v1.0//EN
CALSCALE:GREGORIAN
METHOD:PUBLISH
X-ORIGINAL-URL:https://www.gibraltarwavefc.com
X-WR-CALDESC:Events for Gibraltar Wave FC
REFRESH-INTERVAL;VALUE=DURATION:PT1H
X-Robots-Tag:noindex
X-PUBLISHED-TTL:PT1H
BEGIN:VTIMEZONE
TZID:Europe/Gibraltar
BEGIN:DAYLIGHT
TZOFFSETFROM:+0100
TZOFFSETTO:+0200
TZNAME:CEST
DTSTART:20220327T010000
END:DAYLIGHT
BEGIN:STANDARD
TZOFFSETFROM:+0200
TZOFFSETTO:+0100
TZNAME:CET
DTSTART:20221030T010000
END:STANDARD
BEGIN:DAYLIGHT
TZOFFSETFROM:+0100
TZOFFSETTO:+0200
TZNAME:CEST
DTSTART:20230326T010000
END:DAYLIGHT
BEGIN:STANDARD
TZOFFSETFROM:+0200
TZOFFSETTO:+0100
TZNAME:CET
DTSTART:20231029T010000
END:STANDARD
BEGIN:DAYLIGHT
TZOFFSETFROM:+0100
TZOFFSETTO:+0200
TZNAME:CEST
DTSTART:20240331T010000
END:DAYLIGHT
BEGIN:STANDARD
TZOFFSETFROM:+0200
TZOFFSETTO:+0100
TZNAME:CET
DTSTART:20241027T010000
END:STANDARD
END:VTIMEZONE
BEGIN:VEVENT
DTSTART;TZID=Europe/Gibraltar:20231116T143000
DTEND;TZID=Europe/Gibraltar:20231116T170000
DTSTAMP:20260423T202548
CREATED:20231103T135503Z
LAST-MODIFIED:20260210T135738Z
UID:3841-1700145000-1700154000@www.gibraltarwavefc.com
SUMMARY:ECA Working Group Women's football
DESCRIPTION:The European Club Association (ECA) created the Women’s Football Working Group to accelerate the growth\, professionalism\, and visibility of the women’s game across Europe. It brings together club leaders\, experts\, and practitioners who shape the strategic direction of women’s football at club level.
URL:https://www.gibraltarwavefc.com/event/eca-working-group-womens-football/
LOCATION:Crowne Plaza Geneva\, Avenue Louis-Casaï 75-77\, Geneva\, 1216\, Switzerland
CATEGORIES:ECA Meetings
ATTACH;FMTTYPE=image/jpeg:https://www.gibraltarwavefc.com/wp-content/uploads/2023/08/ECA_Logo-jpg.webp
END:VEVENT
BEGIN:VEVENT
DTSTART;TZID=Europe/Gibraltar:20231116T090000
DTEND;TZID=Europe/Gibraltar:20231116T113000
DTSTAMP:20260423T202548
CREATED:20231103T135328Z
LAST-MODIFIED:20260210T135643Z
UID:3838-1700125200-1700134200@www.gibraltarwavefc.com
SUMMARY:ECA Working Group Sustainability
DESCRIPTION:European Club Association (ECA) runs several expert working groups\, and the Sustainability Working Group is one of the most forward‑looking among them. Its purpose is to help professional football clubs across Europe integrate sustainability into their strategy\, operations\, and community impact.
URL:https://www.gibraltarwavefc.com/event/eca-working-group-sustainability/
LOCATION:Crowne Plaza Geneva\, Avenue Louis-Casaï 75-77\, Geneva\, 1216\, Switzerland
CATEGORIES:ECA Meetings
ATTACH;FMTTYPE=image/jpeg:https://www.gibraltarwavefc.com/wp-content/uploads/2023/08/ECA_Logo-jpg.webp
END:VEVENT
BEGIN:VEVENT
DTSTART;TZID=Europe/Gibraltar:20231115T143000
DTEND;TZID=Europe/Gibraltar:20231115T170000
DTSTAMP:20260423T202548
CREATED:20231103T134940Z
LAST-MODIFIED:20231103T135006Z
UID:3835-1700058600-1700067600@www.gibraltarwavefc.com
SUMMARY:ECA Working Group Men's football
DESCRIPTION:
URL:https://www.gibraltarwavefc.com/event/eca-working-group-mens-football/
LOCATION:Crowne Plaza Geneva\, Avenue Louis-Casaï 75-77\, Geneva\, 1216\, Switzerland
CATEGORIES:ECA Meetings
ATTACH;FMTTYPE=image/jpeg:https://www.gibraltarwavefc.com/wp-content/uploads/2023/08/ECA_Logo-jpg.webp
END:VEVENT
BEGIN:VEVENT
DTSTART;TZID=Europe/Gibraltar:20231115T090000
DTEND;TZID=Europe/Gibraltar:20231115T113000
DTSTAMP:20260423T202548
CREATED:20231103T134742Z
LAST-MODIFIED:20231103T135101Z
UID:3833-1700038800-1700047800@www.gibraltarwavefc.com
SUMMARY:ECA Working Group Youth
DESCRIPTION:
URL:https://www.gibraltarwavefc.com/event/eca-working-group-youth/
LOCATION:Crowne Plaza Geneva\, Avenue Louis-Casaï 75-77\, Geneva\, 1216\, Switzerland
CATEGORIES:ECA Meetings
ATTACH;FMTTYPE=image/jpeg:https://www.gibraltarwavefc.com/wp-content/uploads/2023/08/ECA_Logo-jpg.webp
END:VEVENT
BEGIN:VEVENT
DTSTART;TZID=Europe/Gibraltar:20231114T143000
DTEND;TZID=Europe/Gibraltar:20231114T170000
DTSTAMP:20260423T202548
CREATED:20231103T133456Z
LAST-MODIFIED:20231103T135107Z
UID:3818-1699972200-1699981200@www.gibraltarwavefc.com
SUMMARY:ECA Working Group Commercial & Innovation
DESCRIPTION:
URL:https://www.gibraltarwavefc.com/event/eca-working-group-commercial-innovation/
LOCATION:Crowne Plaza Geneva\, Avenue Louis-Casaï 75-77\, Geneva\, 1216\, Switzerland
CATEGORIES:ECA Meetings
ATTACH;FMTTYPE=image/jpeg:https://www.gibraltarwavefc.com/wp-content/uploads/2023/08/ECA_Logo-jpg.webp
END:VEVENT
BEGIN:VEVENT
DTSTART;TZID=Europe/Gibraltar:20231114T090000
DTEND;TZID=Europe/Gibraltar:20231114T233000
DTSTAMP:20260423T202548
CREATED:20231103T133854Z
LAST-MODIFIED:20231103T135037Z
UID:3823-1699952400-1700004600@www.gibraltarwavefc.com
SUMMARY:ECA Finance Working Group
DESCRIPTION:
URL:https://www.gibraltarwavefc.com/event/finance-eca-working-group/
LOCATION:Crowne Plaza Geneva\, Avenue Louis-Casaï 75-77\, Geneva\, 1216\, Switzerland
CATEGORIES:ECA Meetings
ATTACH;FMTTYPE=image/jpeg:https://www.gibraltarwavefc.com/wp-content/uploads/2023/08/ECA_Logo-jpg.webp
END:VEVENT
BEGIN:VEVENT
DTSTART;TZID=Europe/Gibraltar:20231113T143000
DTEND;TZID=Europe/Gibraltar:20231113T170000
DTSTAMP:20260423T202548
CREATED:20231103T134444Z
LAST-MODIFIED:20231103T135115Z
UID:3830-1699885800-1699894800@www.gibraltarwavefc.com
SUMMARY:ECA Working Group Legal & Regulatory
DESCRIPTION:
URL:https://www.gibraltarwavefc.com/event/eca-working-group-legal-regulatory/
LOCATION:Crowne Plaza Geneva\, Avenue Louis-Casaï 75-77\, Geneva\, 1216\, Switzerland
CATEGORIES:ECA Meetings
ATTACH;FMTTYPE=image/jpeg:https://www.gibraltarwavefc.com/wp-content/uploads/2023/08/ECA_Logo-jpg.webp
END:VEVENT
BEGIN:VEVENT
DTSTART;TZID=Europe/Gibraltar:20231113T143000
DTEND;TZID=Europe/Gibraltar:20231113T170000
DTSTAMP:20260423T202548
CREATED:20231103T134308Z
LAST-MODIFIED:20231103T135202Z
UID:3828-1699885800-1699894800@www.gibraltarwavefc.com
SUMMARY:ECA Governance & Development
DESCRIPTION:
URL:https://www.gibraltarwavefc.com/event/eca-governance-development/
LOCATION:Crowne Plaza Geneva\, Avenue Louis-Casaï 75-77\, Geneva\, 1216\, Switzerland
CATEGORIES:ECA Meetings
ATTACH;FMTTYPE=image/jpeg:https://www.gibraltarwavefc.com/wp-content/uploads/2023/08/ECA_Logo-jpg.webp
END:VEVENT
END:VCALENDAR