BEGIN:VCALENDAR
VERSION:2.0
PRODID:-//Gibraltar Wave FC - ECPv6.15.20//NONSGML v1.0//EN
CALSCALE:GREGORIAN
METHOD:PUBLISH
X-ORIGINAL-URL:https://www.gibraltarwavefc.com
X-WR-CALDESC:Events for Gibraltar Wave FC
REFRESH-INTERVAL;VALUE=DURATION:PT1H
X-Robots-Tag:noindex
X-PUBLISHED-TTL:PT1H
BEGIN:VTIMEZONE
TZID:Europe/Gibraltar
BEGIN:DAYLIGHT
TZOFFSETFROM:+0100
TZOFFSETTO:+0200
TZNAME:CEST
DTSTART:20230326T010000
END:DAYLIGHT
BEGIN:STANDARD
TZOFFSETFROM:+0200
TZOFFSETTO:+0100
TZNAME:CET
DTSTART:20231029T010000
END:STANDARD
BEGIN:DAYLIGHT
TZOFFSETFROM:+0100
TZOFFSETTO:+0200
TZNAME:CEST
DTSTART:20240331T010000
END:DAYLIGHT
BEGIN:STANDARD
TZOFFSETFROM:+0200
TZOFFSETTO:+0100
TZNAME:CET
DTSTART:20241027T010000
END:STANDARD
BEGIN:DAYLIGHT
TZOFFSETFROM:+0100
TZOFFSETTO:+0200
TZNAME:CEST
DTSTART:20250330T010000
END:DAYLIGHT
BEGIN:STANDARD
TZOFFSETFROM:+0200
TZOFFSETTO:+0100
TZNAME:CET
DTSTART:20251026T010000
END:STANDARD
END:VTIMEZONE
BEGIN:VEVENT
DTSTART;TZID=Europe/Gibraltar:20240609T080000
DTEND;TZID=Europe/Gibraltar:20240616T170000
DTSTAMP:20260425T014332
CREATED:20240122T121657Z
LAST-MODIFIED:20240122T121724Z
UID:4059-1717920000-1718557200@www.gibraltarwavefc.com
SUMMARY:Women’s Euro Winners Cup 2024
DESCRIPTION:Beach soccer clubs of Europe assemble! The Euro Winners Cup will head back to Nazaré\, its home for the last six years\, in June 2024 for its 11th edition! The women’s tournament\, which will celebrate its ninth edition in 2024\, will begin Sunday 9 June and end Sunday 16\, comprised of three Round Robin matchdays and followed by a knockout stage\, and the final being played on Sunday 16 June.
URL:https://www.gibraltarwavefc.com/event/womens-euro-winners-cup-2024/
LOCATION:Praia da Nazaré\, Praia da Nazaré\, Nazaré\, Leiria\, 2450-102\, Portugal
CATEGORIES:International Tournaments
ATTACH;FMTTYPE=image/png:https://www.gibraltarwavefc.com/wp-content/uploads/2022/06/Nazare-beach-soccer-2020-1024x538-min.png
ORGANIZER;CN="Beach Soccer World Wide SL (BSWW)":MAILTO:info@beachsoccer.com
END:VEVENT
END:VCALENDAR