BEGIN:VCALENDAR
VERSION:2.0
PRODID:-//Gibraltar Wave FC - ECPv6.15.20//NONSGML v1.0//EN
CALSCALE:GREGORIAN
METHOD:PUBLISH
X-WR-CALNAME:Gibraltar Wave FC
X-ORIGINAL-URL:https://www.gibraltarwavefc.com
X-WR-CALDESC:Events for Gibraltar Wave FC
REFRESH-INTERVAL;VALUE=DURATION:PT1H
X-Robots-Tag:noindex
X-PUBLISHED-TTL:PT1H
BEGIN:VTIMEZONE
TZID:Europe/Gibraltar
BEGIN:DAYLIGHT
TZOFFSETFROM:+0100
TZOFFSETTO:+0200
TZNAME:CEST
DTSTART:20250330T010000
END:DAYLIGHT
BEGIN:STANDARD
TZOFFSETFROM:+0200
TZOFFSETTO:+0100
TZNAME:CET
DTSTART:20251026T010000
END:STANDARD
BEGIN:DAYLIGHT
TZOFFSETFROM:+0100
TZOFFSETTO:+0200
TZNAME:CEST
DTSTART:20260329T010000
END:DAYLIGHT
BEGIN:STANDARD
TZOFFSETFROM:+0200
TZOFFSETTO:+0100
TZNAME:CET
DTSTART:20261025T010000
END:STANDARD
BEGIN:DAYLIGHT
TZOFFSETFROM:+0100
TZOFFSETTO:+0200
TZNAME:CEST
DTSTART:20270328T010000
END:DAYLIGHT
BEGIN:STANDARD
TZOFFSETFROM:+0200
TZOFFSETTO:+0100
TZNAME:CET
DTSTART:20271031T010000
END:STANDARD
END:VTIMEZONE
BEGIN:VEVENT
DTSTART;TZID=Europe/Gibraltar:20260305T083000
DTEND;TZID=Europe/Gibraltar:20260306T220000
DTSTAMP:20260424T003512
CREATED:20260224T123230Z
LAST-MODIFIED:20260224T123415Z
UID:4729-1772699400-1772834400@www.gibraltarwavefc.com
SUMMARY:EFC Academy Visit    FK Crvena Zvezda
DESCRIPTION:
URL:https://www.gibraltarwavefc.com/event/efc-academy-visit-fk-crvena-zvezda/
LOCATION:FK Crvena Zvezda Academy\, Rajko Mitic Stadium Ljutice Bogdana 1a\, Beograd\, 11040\, Serbia
CATEGORIES:Community Events,EFC Meetings
ATTACH;FMTTYPE=image/jpeg:https://www.gibraltarwavefc.com/wp-content/uploads/2026/02/community_banner.jpeg
END:VEVENT
BEGIN:VEVENT
DTSTART;TZID=Europe/Gibraltar:20260310T203000
DTEND;TZID=Europe/Gibraltar:20260310T213000
DTSTAMP:20260424T003512
CREATED:20260224T133246Z
LAST-MODIFIED:20260224T133744Z
UID:4744-1773174600-1773178200@www.gibraltarwavefc.com
SUMMARY:TMU Esports Guest Lecture - Gibraltar FC
DESCRIPTION:Heik Mock will deliver a guest lecture at Toronto Metropolitan University\, offering an inside look at the Gibraltar Wave FC Esports initiative. During his talk\, he will outline what makes the project unique\, highlight the standout elements that differentiate it from traditional club‑based esports programs\, and present evidence demonstrating the club’s ability to deliver meaningful value to players\, partners\, and the wider community. \nThe lecture will explore the initiative’s core goals\, the community needs it addresses\, and the demographics it aims to reach—spanning young esports athletes\, local supporters\, and international audiences connected through digital platforms. Heik will walk students through the project timeline\, key milestones\, and the delivery methods used to bring the initiative to life\, while also introducing the essential roles within the club that make this work possible. \nLooking ahead\, he will discuss the long‑term change the initiative seeks to create\, how success is measured\, and the project’s potential for sustainable growth. Finally\, he will outline how the model could be expanded or adapted to other contexts\, offering students a practical perspective on innovation within modern sports organizations.
URL:https://www.gibraltarwavefc.com/event/tmu-esports-guest-lecture-gibraltar-fc/
LOCATION:Zoom\, Canada
CATEGORIES:Teaching
ATTACH;FMTTYPE=image/png:https://www.gibraltarwavefc.com/wp-content/uploads/2026/02/tmu_logo.png
END:VEVENT
BEGIN:VEVENT
DTSTART;TZID=Europe/Gibraltar:20260324T120000
DTEND;TZID=Europe/Gibraltar:20260325T161500
DTSTAMP:20260424T003512
CREATED:20260224T120733Z
LAST-MODIFIED:20260224T122529Z
UID:4716-1774353600-1774455300@www.gibraltarwavefc.com
SUMMARY:EFC Club Connect: Commercial\, Innovation and Fans
DESCRIPTION:The EFC Club Connect: Commercial\, Innovation and Fans\, which will take place in Lisbon\, Portugal from from 24 to 25 March 2025\,  brings together commercial\, innovation and fan-engagement leaders from across our Member Clubs. The programme is designed to share practical solutions\, explore emerging trends and highlight new ideas to help clubs strengthen revenue\, build loyalty and deliver better fan experiences. \n\nWhat to Expect\nA two-day experience shaped around:\n• Keynote and plenary sessions\n• Breakout discussions on innovation\, commercial strategy\, technology and fan loyalty\n• Extended networking opportunities\n• The signature EFC Family Party\, offering a relaxed and open space to connect with peers
URL:https://www.gibraltarwavefc.com/event/club-connect-commercial-innovation-and-fans/
LOCATION:Lisbon Marriott Hotel\, Avenida dos Combatentes 45\, Lisbon\, 1600-042\, Portugal
CATEGORIES:Community Events,EFC Meetings
ATTACH;FMTTYPE=image/jpeg:https://www.gibraltarwavefc.com/wp-content/uploads/2026/02/Club_Connect_Email_Banner_Header-scaled.jpg
END:VEVENT
BEGIN:VEVENT
DTSTART;TZID=Europe/Gibraltar:20260414T120000
DTEND;TZID=Europe/Gibraltar:20260415T161500
DTSTAMP:20260424T003512
CREATED:20260224T122101Z
LAST-MODIFIED:20260224T122425Z
UID:4723-1776168000-1776269700@www.gibraltarwavefc.com
SUMMARY:EFC Club Connect: Women’s Football
DESCRIPTION:The EFC Club Connect: Women’s Football\, which will take place in Lisbon\, Portugal from from 14 to 15 April 2025\, brings together club leaders shaping the sporting\, business and strategic growth of the women’s game. It is an opportunity to connect with peers\, share practical insights and take a closer look at how we can develop women’s club football across the continent. \n\n\nWhat to Expect\n• A two-day programme designed to inform\, inspire and accelerate club development\, featuring:\n• Keynote and plenary sessions\n• Breakout discussions on competition development\, visibility\, branding\, investment and technology\n• Dedicated networking sessions\n• The signature EFC Family Party\, offering an informal space to meet and reconnect 
URL:https://www.gibraltarwavefc.com/event/club-connect-womens-football/
LOCATION:Lisbon Marriott Hotel\, Avenida dos Combatentes 45\, Lisbon\, 1600-042\, Portugal
CATEGORIES:Community Events,EFC Meetings
ATTACH;FMTTYPE=image/jpeg:https://www.gibraltarwavefc.com/wp-content/uploads/2026/02/Club_Connect_Email_Banner_WomensFootball-Text-scaled.jpg
END:VEVENT
BEGIN:VEVENT
DTSTART;TZID=Europe/Gibraltar:20260523T110000
DTEND;TZID=Europe/Gibraltar:20260524T190000
DTSTAMP:20260424T003512
CREATED:20260224T140845Z
LAST-MODIFIED:20260224T140845Z
UID:4755-1779534000-1779649200@www.gibraltarwavefc.com
SUMMARY:National Coaches Conference 2026
DESCRIPTION:The FAW National Coaches Conference is an annual event which attracts the biggest names in the game to discuss new ideas\, trends and innovations in football coaching. \nPrevious guests include; Carlo Ancelotti\, Mikel Arteta\, Thierry Henry\, Rhian Wilkinson\, Anita Asante\, Tim Cahill and FAW National Team case studies. \nThe 2 day event\, which combines entertaining and insightful theory lectures with World Class practical sessions\, also serves as revalidation for UEFA Qualified Coaches.
URL:https://www.gibraltarwavefc.com/event/national-coaches-conference-2026/
LOCATION:Celtic Manor Resort\, The Usk Valley\, Newport\, South Wales\, NP18 1HQ\, United Kingdom
CATEGORIES:Community Events,Teaching
END:VEVENT
BEGIN:VEVENT
DTSTART;VALUE=DATE:20260608
DTEND;VALUE=DATE:20260615
DTSTAMP:20260424T003512
CREATED:20260423T043905Z
LAST-MODIFIED:20260423T043905Z
UID:4825-1780876800-1781481599@www.gibraltarwavefc.com
SUMMARY:Women's Euro Winners Cup 2026
DESCRIPTION:
URL:https://www.gibraltarwavefc.com/event/womens-euro-winners-cup-2026/
LOCATION:Praia da Nazaré\, Praia da Nazaré\, Nazaré\, Leiria\, 2450-102\, Portugal
ATTACH;FMTTYPE=image/png:https://www.gibraltarwavefc.com/wp-content/uploads/2022/06/Nazare-beach-soccer-2020-1024x538-min.png
ORGANIZER;CN="Beach Soccer World Wide SL (BSWW)":MAILTO:info@beachsoccer.com
END:VEVENT
BEGIN:VEVENT
DTSTART;VALUE=DATE:20260928
DTEND;VALUE=DATE:20261001
DTSTAMP:20260424T003512
CREATED:20260224T141420Z
LAST-MODIFIED:20260224T141513Z
UID:4762-1790553600-1790812799@www.gibraltarwavefc.com
SUMMARY:EFC - 33th General Assembly
DESCRIPTION:
URL:https://www.gibraltarwavefc.com/event/efc-33th-general-assembly/
LOCATION:Zoom\, Canada
CATEGORIES:Community Events,EFC Meetings
ATTACH;FMTTYPE=image/jpeg:https://www.gibraltarwavefc.com/wp-content/uploads/2026/02/community_banner.jpeg
END:VEVENT
END:VCALENDAR